Workbook

Sheet Per District Cuts by County
A1: DCODE | B1: County | C1: District | D1: 2016-17 Pupils | E1: Per Pupil Cut | F1: 2017-18 District Cut
B2: Statewide | C2: $403 million SAF loss | D2: 1474500 | E2: =F2/D2 -> 273.31299 | F2: 403000000
A3: 01010 | B3: Alcona | C3: Alcona Community Schools | D3: 729.85 | E3: =E2 -> 273.31299 | F3: =D3*E3 -> 199477.48
A4: 34140 | B4: Ionia | C4: Berlin Township S/D #3 | D4: 21.54 | E4: =E3 -> 273.31299 | F4: =D4*E4 -> 5887.1617
A5: 34340 | B5: Ionia | C5: Easton Township S/D #6 | D5: 27.9 | E5: =E4 -> 273.31299 | F5: =D5*E5 -> 7625.4323
A6: 02070 | B6: Alger | C6: Munising Public Schools | D6: 674.33 | E6: =E5 -> 273.31299 | F6: =D6*E6 -> 184303.15
A7: 02080 | B7: Alger | C7: Superior Central Schools | D7: 350.52 | E7: =E6 -> 273.31299 | F7: =D7*E7 -> 95801.668
A8: 03010 | B8: Allegan | C8: Plainwell Community Schools | D8: 2746.34 | E8: =E7 -> 273.31299 | F8: =D8*E8 -> 750610.39
A9: 03020 | B9: Allegan | C9: Otsego Public Schools | D9: 2368 | E9: =E8 -> 273.31299 | F9: =D9*E9 -> 647205.15
A10: 03030 | B10: Allegan | C10: Allegan Public Schools | D10: 2555.07 | E10: =E9 -> 273.31299 | F10: =D10*E10 -> 698333.81
A11: 03040 | B11: Allegan | C11: Wayland Union Schools | D11: 2981.66 | E11: =E10 -> 273.31299 | F11: =D11*E11 -> 814926.4
A12: 03050 | B12: Allegan | C12: Fennville Public Schools | D12: 1358.93 | E12: =E11 -> 273.31299 | F12: =D12*E12 -> 371413.22
A13: 03060 | B13: Allegan | C13: Martin Public Schools | D13: 561.53 | E13: =E12 -> 273.31299 | F13: =D13*E13 -> 153473.44
A14: 03070 | B14: Allegan | C14: Hopkins Public Schools | D14: 1678.29 | E14: =E13 -> 273.31299 | F14: =D14*E14 -> 458698.45
... A828: 83070 | B828: Wexford | C828: Mesick Consolidated Schools | D828: 622.08 | E828: =E827 -> 273.31299 | F828: =D828*E828 -> 170022.54

Sheet HD-School Dist Cut Lookup
A1: House District | B1: School District | C1: 2017-18 Cut
A2: 1 | B2: Grosse Pointe Public Schools | C2: =VLOOKUP(B:B,'Per District Cuts by County'!C:F,4,0) -> 2188430.8
A3: 1 | B3: Harper Woods Schools, City of | C3: =VLOOKUP(B:B,'Per District Cuts by County'!C:F,4,0) -> 502311.01
A4: 1 | B4: Detroit City School District | C4: =VLOOKUP(B:B,'Per District Cuts by County'!C:F,4,0) -> 12889550
A5: 2 | B5: Grosse Pointe Public Schools | C5: =VLOOKUP(B:B,'Per District Cuts by County'!C:F,4,0) -> 2188430.8
A6: 2 | B6: Detroit City School District | C6: =VLOOKUP(B:B,'Per District Cuts by County'!C:F,4,0) -> 12889550
A7: 3 | B7: Detroit City School District | C7: =VLOOKUP(B:B,'Per District Cuts by County'!C:F,4,0) -> 12889550
A8: 4 | B8: Detroit City School District | C8: =VLOOKUP(B:B,'Per District Cuts by County'!C:F,4,0) -> 12889550
A9: 5 | B9: Detroit City School District | C9: =VLOOKUP(B:B,'Per District Cuts by County'!C:F,4,0) -> 12889550
A10: 6 | B10: River Rouge School District | C10: =VLOOKUP(B:B,'Per District Cuts by County'!C:F,4,0) -> 542384.16
A11: 6 | B11: Detroit City School District | C11: =VLOOKUP(B:B,'Per District Cuts by County'!C:F,4,0) -> 12889550
A12: 6 | B12: Ecorse Public School District | C12: =VLOOKUP(B:B,'Per District Cuts by County'!C:F,4,0) -> 298908.75
A13: 7 | B13: Detroit City School District | C13: =VLOOKUP(B:B,'Per District Cuts by County'!C:F,4,0) -> 12889550
... A777: 110 | B777: Grant Township S/D #2 | C777: =VLOOKUP(B:B,'Per District Cuts by County'!C:F,4,0) -> 1404.8288

Sheet HD Cuts Chart PRINTABLE
A1: Tax Refund Shift - Total School District Cuts by House District
A3: NOTE: School districts cuts are counted in full in each HD where all or part of the school district lies (i.e., School districts are counted in multiple HDs)
A6: Row Labels | B6: Sum of 2017-18 Cut
A7: 1 | B7: 15580292
A8: Detroit City School District | B8: 12889550
A9: Grosse Pointe Public Schools | B9: 2188430.8
A10: Harper Woods Schools, City of | B10: 502311.01
A11: 2 | B11: 15077981
A12: Detroit City School District | B12: 12889550
A13: Grosse Pointe Public Schools | B13: 2188430.8
A14: 3 | B14: 12889550
A15: Detroit City School District | B15: 12889550
A16: 4 | B16: 12889550
A17: Detroit City School District | B17: 12889550
A18: 5 | B18: 12889550
A19: Detroit City School District | B19: 12889550
A20: 6 | B20: 13730843
A21: Detroit City School District | B21: 12889550
A22: Ecorse Public School District | B22: 298908.75
A23: River Rouge School District | B23: 542384.16
A24: 7 | B24: 12889550
A25: Detroit City School District | B25: 12889550
A26: 8 | B26: 12889550
A27: Detroit City School District | B27: 12889550
A28: 9 | B28: 18529817
A29: Dearborn City School District | B29: 5640267.2
A30: Detroit City School District | B30: 12889550
A31: 10 | B31: 14796017
A32: Detroit City School District | B32: 12889550
A33: Redford Union School District | B33: 939204.55
A34: South Redford School District | B34: 967262.86
A35: 11 | B35: 17402975
A36: Crestwood School District | B36: 1084669.9
A37: Dearborn City School District | B37: 5640267.2
A38: Garden City School District | B38: 1107210
A39: Livonia Public Schools | B39: 3993504.5
A40: Taylor School District | B40: 1842687.1
A41: Wayne-Westland Community School District | B41: 3166443
A42: Westwood Community Schools | B42: 568193.1
A43: 12 | B43: 3989596.1
...

Sheet SD-School Dist Cut Lookup
A1: Senate District | B1: School District | C1: 2017-18 Cut
A2: 1 | B2: Detroit City School District | C2: =VLOOKUP(B:B,'Per District Cuts by County'!C:F,4,0) -> 12889550
A3: 1 | B3: Gibraltar School District | C3: =VLOOKUP(B:B,'Per District Cuts by County'!C:F,4,0) -> 964827.64
A4: 1 | B4: Grosse Ile Township Schools | C4: =VLOOKUP(B:B,'Per District Cuts by County'!C:F,4,0) -> 522137.13
A5: 1 | B5: River Rouge School District | C5: =VLOOKUP(B:B,'Per District Cuts by County'!C:F,4,0) -> 542384.16
A6: 1 | B6: Riverview Community School District | C6: =VLOOKUP(B:B,'Per District Cuts by County'!C:F,4,0) -> 786611.18
A7: 1 | B7: Trenton Public Schools | C7: =VLOOKUP(B:B,'Per District Cuts by County'!C:F,4,0) -> 729204.52
A8: 1 | B8: Woodhaven-Brownstown School District | C8: =VLOOKUP(B:B,'Per District Cuts by County'!C:F,4,0) -> 1395831.3
A9: 1 | B9: Wyandotte City School District | C9: =VLOOKUP(B:B,'Per District Cuts by County'!C:F,4,0) -> 1269525.2
A10: 1 | B10: Ecorse Public School District | C10: =VLOOKUP(B:B,'Per District Cuts by County'!C:F,4,0) -> 298908.75
A11: 2 | B11: Detroit City School District | C11: =VLOOKUP(B:B,'Per District Cuts by County'!C:F,4,0) -> 12889550
A12: 2 | B12: Grosse Pointe Public Schools | C12: =VLOOKUP(B:B,'Per District Cuts by County'!C:F,4,0) -> 2188430.8
A13: 2 | B13: Harper Woods Schools, City of | C13: =VLOOKUP(B:B,'Per District Cuts by County'!C:F,4,0) -> 502311.01
... A662: 38 | B662: Burt Township School District | C662: =VLOOKUP(B:B,'Per District Cuts by County'!C:F,4,0) -> 7078.8064

Sheet SD Cuts Chart
A1: Tax Refund Shift - Total School District Cuts by Senate District
A3: NOTE: School districts cuts are counted in full in each SD where all or part of the school district lies (i.e., School districts are counted in multiple SDs)
A6: Row Labels | B6: Sum of 2017-18 Cut
A7: 1 | B7: 19398980
A8: Detroit City School District | B8: 12889550
A9: Ecorse Public School District | B9: 298908.75
A10: Gibraltar School District | B10: 964827.64
A11: Grosse Ile Township Schools | B11: 522137.13
A12: River Rouge School District | B12: 542384.16
A13: Riverview Community School District | B13: 786611.18
A14: Trenton Public Schools | B14: 729204.52
A15: Woodhaven-Brownstown School District | B15: 1395831.3
A16: Wyandotte City School District | B16: 1269525.2
A17: 2 | B17: 16394188
A18: Detroit City School District | B18: 12889550
A19: Grosse Pointe Public Schools | B19: 2188430.8
A20: Hamtramck Public Schools | B20: 813896.01
A21: Harper Woods Schools, City of | B21: 502311.01
A22: 3 | B22: 19321605
A23: Dearborn City School District | B23: 5640267.2
A24: Detroit City School District | B24: 12889550
A25: Melvindale-North Allen Park Schools | B25: 791787.72
A26: 4 | B26: 16429404
A27: Allen Park Public Schools | B27: 1038982.9
A28: Detroit City School District | B28: 12889550
A29: Lincoln Park Public Schools | B29: 1336749.2
A30: Southgate Community School District | B30: 1164122
A31: 5 | B31: 23292599
A32: Crestwood School District | B32: 1084669.9
A33: Dearborn Heights School District #7 | B33: 727378.79
A34: Detroit City School District | B34: 12889550
A35: Garden City School District | B35: 1107210
A36: Redford Union School District | B36: 939204.55
A37: South Redford School District | B37: 967262.86
A38: Taylor School District | B38: 1842687.1
A39: Wayne-Westland Community School District | B39: 3166443
A40: Westwood Community Schools | B40: 568193.1
A41: 6 | B41: 15850989
A42: Flat Rock Community Schools | B42: 530382.98
A43: Gibraltar School District | B43: 964827.64
...
