Workbook

Sheet Per District Cuts by County
A1: DCODE | B1: County | C1: District | D1: 2016-17 Pupils | E1: Per Pupil Cut | F1: 2017-18 District Cut
B2: Statewide | C2: $403 million SAF loss | D2: 1474500 | E2: =F2/D2 -> 273.31299 | F2: 403000000
A3: 01010 | B3: Alcona | C3: Alcona Community Schools | D3: 729.85 | E3: =E2 -> 273.31299 | F3: =D3*E3 -> 199477.48
A4: 34140 | B4: Ionia | C4: Berlin Township S/D #3 | D4: 21.54 | E4: =E3 -> 273.31299 | F4: =D4*E4 -> 5887.1617
A5: 34340 | B5: Ionia | C5: Easton Township S/D #6 | D5: 27.9 | E5: =E4 -> 273.31299 | F5: =D5*E5 -> 7625.4323
A6: 02070 | B6: Alger | C6: Munising Public Schools | D6: 674.33 | E6: =E5 -> 273.31299 | F6: =D6*E6 -> 184303.15
A7: 02080 | B7: Alger | C7: Superior Central Schools | D7: 350.52 | E7: =E6 -> 273.31299 | F7: =D7*E7 -> 95801.668
A8: 03010 | B8: Allegan | C8: Plainwell Community Schools | D8: 2746.34 | E8: =E7 -> 273.31299 | F8: =D8*E8 -> 750610.39
A9: 03020 | B9: Allegan | C9: Otsego Public Schools | D9: 2368 | E9: =E8 -> 273.31299 | F9: =D9*E9 -> 647205.15
A10: 03030 | B10: Allegan | C10: Allegan Public Schools | D10: 2555.07 | E10: =E9 -> 273.31299 | F10: =D10*E10 -> 698333.81
A11: 03040 | B11: Allegan | C11: Wayland Union Schools | D11: 2981.66 | E11: =E10 -> 273.31299 | F11: =D11*E11 -> 814926.4
A12: 03050 | B12: Allegan | C12: Fennville Public Schools | D12: 1358.93 | E12: =E11 -> 273.31299 | F12: =D12*E12 -> 371413.22
A13: 03060 | B13: Allegan | C13: Martin Public Schools | D13: 561.53 | E13: =E12 -> 273.31299 | F13: =D13*E13 -> 153473.44
A14: 03070 | B14: Allegan | C14: Hopkins Public Schools | D14: 1678.29 | E14: =E13 -> 273.31299 | F14: =D14*E14 -> 458698.45
... A828: 83070 | B828: Wexford | C828: Mesick Consolidated Schools | D828: 622.08 | E828: =E827 -> 273.31299 | F828: =D828*E828 -> 170022.54

Sheet HD-School Dist Cut Lookup
A1: House District | B1: School District | C1: 2017-18 Cut
A2: 1 | B2: Grosse Pointe Public Schools | C2: =VLOOKUP(B:B,'Per District Cuts by County'!C:F,4,0) -> 2188430.8
A3: 1 | B3: Harper Woods Schools, City of | C3: =VLOOKUP(B:B,'Per District Cuts by County'!C:F,4,0) -> 502311.01
A4: 1 | B4: Detroit City School District | C4: =VLOOKUP(B:B,'Per District Cuts by County'!C:F,4,0) -> 12889550
A5: 2 | B5: Grosse Pointe Public Schools | C5: =VLOOKUP(B:B,'Per District Cuts by County'!C:F,4,0) -> 2188430.8
A6: 2 | B6: Detroit City School District | C6: =VLOOKUP(B:B,'Per District Cuts by County'!C:F,4,0) -> 12889550
A7: 3 | B7: Detroit City School District | C7: =VLOOKUP(B:B,'Per District Cuts by County'!C:F,4,0) -> 12889550
A8: 4 | B8: Detroit City School District | C8: =VLOOKUP(B:B,'Per District Cuts by County'!C:F,4,0) -> 12889550
A9: 5 | B9: Detroit City School District | C9: =VLOOKUP(B:B,'Per District Cuts by County'!C:F,4,0) -> 12889550
A10: 6 | B10: River Rouge School District | C10: =VLOOKUP(B:B,'Per District Cuts by County'!C:F,4,0) -> 542384.16
A11: 6 | B11: Detroit City School District | C11: =VLOOKUP(B:B,'Per District Cuts by County'!C:F,4,0) -> 12889550
A12: 6 | B12: Ecorse Public School District | C12: =VLOOKUP(B:B,'Per District Cuts by County'!C:F,4,0) -> 298908.75
A13: 7 | B13: Detroit City School District | C13: =VLOOKUP(B:B,'Per District Cuts by County'!C:F,4,0) -> 12889550
... A777: 110 | B777: Grant Township S/D #2 | C777: =VLOOKUP(B:B,'Per District Cuts by County'!C:F,4,0) -> 1404.8288

Sheet HD Cuts Chart PRINTABLE
A1: Tax Refund Shift - Total School District Cuts by House District
A3: NOTE: School districts cuts are counted in full in each HD where all or part of the school district lies (i.e., School districts are counted in multiple HDs)
A6: Row Labels | B6: Sum of 2017-18 Cut
A7: 1 | B7: 15580292
A8: Detroit City School District | B8: 12889550
A9: Grosse Pointe Public Schools | B9: 2188430.8
A10: Harper Woods Schools, City of | B10: 502311.01
A11: 2 | B11: 15077981
A12: Detroit City School District | B12: 12889550
A13: Grosse Pointe Public Schools | B13: 2188430.8
A14: 3 | B14: 12889550
A15: Detroit City School District | B15: 12889550
A16: 4 | B16: 12889550
A17: Detroit City School District | B17: 12889550
A18: 5 | B18: 12889550
A19: Detroit City School District | B19: 12889550
A20: 6 | B20: 13730843
A21: Detroit City School District | B21: 12889550
A22: Ecorse Public School District | B22: 298908.75
A23: River Rouge School District | B23: 542384.16
A24: 7 | B24: 12889550
A25: Detroit City School District | B25: 12889550
A26: 8 | B26: 12889550
A27: Detroit City School District | B27: 12889550
A28: 9 | B28: 18529817
A29: Dearborn City School District | B29: 5640267.2
A30: Detroit City School District | B30: 12889550
A31: 10 | B31: 14796017
A32: Detroit City School District | B32: 12889550
A33: Redford Union School District | B33: 939204.55
A34: South Redford School District | B34: 967262.86
A35: 11 | B35: 17402975
A36: Crestwood School District | B36: 1084669.9
A37: Dearborn City School District | B37: 5640267.2
A38: Garden City School District | B38: 1107210
A39: Livonia Public Schools | B39: 3993504.5
A40: Taylor School District | B40: 1842687.1
A41: Wayne-Westland Community School District | B41: 3166443
A42: Westwood Community Schools | B42: 568193.1
A43: 12 | B43: 3989596.1
A44: Romulus Community Schools | B44: 820624.98
A45: Taylor School District | B45: 1842687.1
A46: Van Buren Public Schools | B46: 1326284.1
A47: 13 | B47: 6426033.8
A48: Allen Park Public Schools | B48: 1038982.9
A49: Crestwood School District | B49: 1084669.9
A50: Dearborn Heights School District #7 | B50: 727378.79
A51: Southgate Community School District | B51: 1164122
A52: Taylor School District | B52: 1842687.1
A53: Westwood Community Schools | B53: 568193.1
A54: 14 | B54: 3392885.6
A55: Lincoln Park Public Schools | B55: 1336749.2
A56: Riverview Community School District | B56: 786611.18
A57: Wyandotte City School District | B57: 1269525.2
A58: 15 | B58: 6208460.3
A59: Dearborn City School District | B59: 5640267.2
A60: Westwood Community Schools | B60: 568193.1
A61: 16 | B61: 9002634.6
A62: Livonia Public Schools | B62: 3993504.5
A63: Taylor School District | B63: 1842687.1
A64: Wayne-Westland Community School District | B64: 3166443
A65: 17 | B65: 7998879
A66: Airport Community School District | B66: 696478.02
A67: Flat Rock Community Schools | B67: 530382.98
A68: Gibraltar School District | B68: 964827.64
A69: Huron School District | B69: 702627.56
A70: Jefferson Schools (Monroe) | B70: 508045.11
A71: Lincoln Consolidated School District | B71: 1107775.8
A72: Milan Area Schools | B72: 596043.7
A73: Monroe Public Schools | B73: 1566414.1
A74: Van Buren Public Schools | B74: 1326284.1
A75: 18 | B75: 3534584.7
A76: East Detroit Public Schools | B76: 871772.77
A77: Lake Shore Public Schools (Macomb) | B77: 993694.96
A78: Lakeview Public Schools (Macomb) | B78: 1149182.7
A79: South Lake Schools | B79: 519934.23
A80: 19 | B80: 4488091.7
A81: Clarenceville School District | B81: 494587.18
A82: Livonia Public Schools | B82: 3993504.5
A83: 20 | B83: 6785957
A84: Northville Public Schools | B84: 2044747.4
A85: Plymouth-Canton Community Schools | B85: 4741209.6
A86: 21 | B86: 10341712
A87: Lincoln Consolidated School District | B87: 1107775.8
A88: Plymouth-Canton Community Schools | B88: 4741209.6
A89: Van Buren Public Schools | B89: 1326284.1
A90: Wayne-Westland Community School District | B90: 3166443
A91: 22 | B91: 8606311.7
A92: Center Line Public Schools | B92: 743015.02
A93: East Detroit Public Schools | B93: 871772.77
A94: Roseville Community Schools | B94: 1348794.1
A95: Van Dyke Public Schools | B95: 725296.14
A96: Warren Consolidated Schools | B96: 4028592.4
A97: Warren Woods Public Schools | B97: 888841.17
A98: 23 | B98: 4314628.1
A99: Gibraltar School District | B99: 964827.64
A100: Grosse Ile Township Schools | B100: 522137.13
A101: Huron School District | B101: 702627.56
A102: Trenton Public Schools | B102: 729204.52
A103: Woodhaven-Brownstown School District | B103: 1395831.3
...

Sheet SD-School Dist Cut Lookup
A1: Senate District | B1: School District | C1: 2017-18 Cut
A2: 1 | B2: Detroit City School District | C2: =VLOOKUP(B:B,'Per District Cuts by County'!C:F,4,0) -> 12889550
A3: 1 | B3: Gibraltar School District | C3: =VLOOKUP(B:B,'Per District Cuts by County'!C:F,4,0) -> 964827.64
A4: 1 | B4: Grosse Ile Township Schools | C4: =VLOOKUP(B:B,'Per District Cuts by County'!C:F,4,0) -> 522137.13
A5: 1 | B5: River Rouge School District | C5: =VLOOKUP(B:B,'Per District Cuts by County'!C:F,4,0) -> 542384.16
A6: 1 | B6: Riverview Community School District | C6: =VLOOKUP(B:B,'Per District Cuts by County'!C:F,4,0) -> 786611.18
A7: 1 | B7: Trenton Public Schools | C7: =VLOOKUP(B:B,'Per District Cuts by County'!C:F,4,0) -> 729204.52
A8: 1 | B8: Woodhaven-Brownstown School District | C8: =VLOOKUP(B:B,'Per District Cuts by County'!C:F,4,0) -> 1395831.3
A9: 1 | B9: Wyandotte City School District | C9: =VLOOKUP(B:B,'Per District Cuts by County'!C:F,4,0) -> 1269525.2
A10: 1 | B10: Ecorse Public School District | C10: =VLOOKUP(B:B,'Per District Cuts by County'!C:F,4,0) -> 298908.75
A11: 2 | B11: Detroit City School District | C11: =VLOOKUP(B:B,'Per District Cuts by County'!C:F,4,0) -> 12889550
A12: 2 | B12: Grosse Pointe Public Schools | C12: =VLOOKUP(B:B,'Per District Cuts by County'!C:F,4,0) -> 2188430.8
A13: 2 | B13: Harper Woods Schools, City of | C13: =VLOOKUP(B:B,'Per District Cuts by County'!C:F,4,0) -> 502311.01
... A662: 38 | B662: Burt Township School District | C662: =VLOOKUP(B:B,'Per District Cuts by County'!C:F,4,0) -> 7078.8064

Sheet SD Cuts Chart
A1: Tax Refund Shift - Total School District Cuts by Senate District
A3: NOTE: School districts cuts are counted in full in each SD where all or part of the school district lies (i.e., School districts are counted in multiple SDs)
A6: Row Labels | B6: Sum of 2017-18 Cut
A7: 1 | B7: 19398980
A8: Detroit City School District | B8: 12889550
A9: Ecorse Public School District | B9: 298908.75
A10: Gibraltar School District | B10: 964827.64
A11: Grosse Ile Township Schools | B11: 522137.13
A12: River Rouge School District | B12: 542384.16
A13: Riverview Community School District | B13: 786611.18
A14: Trenton Public Schools | B14: 729204.52
A15: Woodhaven-Brownstown School District | B15: 1395831.3
A16: Wyandotte City School District | B16: 1269525.2
A17: 2 | B17: 16394188
A18: Detroit City School District | B18: 12889550
A19: Grosse Pointe Public Schools | B19: 2188430.8
A20: Hamtramck Public Schools | B20: 813896.01
A21: Harper Woods Schools, City of | B21: 502311.01
A22: 3 | B22: 19321605
A23: Dearborn City School District | B23: 5640267.2
A24: Detroit City School District | B24: 12889550
A25: Melvindale-North Allen Park Schools | B25: 791787.72
A26: 4 | B26: 16429404
A27: Allen Park Public Schools | B27: 1038982.9
A28: Detroit City School District | B28: 12889550
A29: Lincoln Park Public Schools | B29: 1336749.2
A30: Southgate Community School District | B30: 1164122
A31: 5 | B31: 23292599
A32: Crestwood School District | B32: 1084669.9
A33: Dearborn Heights School District #7 | B33: 727378.79
A34: Detroit City School District | B34: 12889550
A35: Garden City School District | B35: 1107210
A36: Redford Union School District | B36: 939204.55
A37: South Redford School District | B37: 967262.86
A38: Taylor School District | B38: 1842687.1
A39: Wayne-Westland Community School District | B39: 3166443
A40: Westwood Community Schools | B40: 568193.1
A41: 6 | B41: 15850989
A42: Flat Rock Community Schools | B42: 530382.98
A43: Gibraltar School District | B43: 964827.64
A44: Huron School District | B44: 702627.56
A45: Lincoln Consolidated School District | B45: 1107775.8
A46: Livonia Public Schools | B46: 3993504.5
A47: Romulus Community Schools | B47: 820624.98
A48: Taylor School District | B48: 1842687.1
A49: Van Buren Public Schools | B49: 1326284.1
A50: Wayne-Westland Community School District | B50: 3166443
A51: Woodhaven-Brownstown School District | B51: 1395831.3
A52: 7 | B52: 15766776
A53: Clarenceville School District | B53: 494587.18
A54: Livonia Public Schools | B54: 3993504.5
A55: Northville Public Schools | B55: 2044747.4
A56: Plymouth-Canton Community Schools | B56: 4741209.6
A57: Van Buren Public Schools | B57: 1326284.1
A58: Wayne-Westland Community School District | B58: 3166443
A59: 8 | B59: 22128830
A60: Anchor Bay School District | B60: 1676351.5
A61: Armada Area Schools | B61: 519114.29
A62: Lake Shore Public Schools (Macomb) | B62: 993694.96
A63: Lakeview Public Schools (Macomb) | B63: 1149182.7
A64: L'Anse Creuse Public Schools | B64: 2956822.9
A65: Mt. Clemens Community School District | B65: 313738.71
A66: New Haven Community Schools | B66: 348542.39
A67: Richmond Community Schools | B67: 391930.82
A68: Rochester Community School District | B68: 4105538.2
A69: Romeo Community Schools | B69: 1464017.4
A70: South Lake Schools | B70: 519934.23
A71: Utica Community Schools | B71: 7689961.5
A72: 9 | B72: 14466530
A73: Center Line Public Schools | B73: 743015.02
A74: Clintondale Community Schools | B74: 753734.36
A75: East Detroit Public Schools | B75: 871772.77
A76: Fitzgerald Public Schools | B76: 712846.73
A77: Fraser Public Schools | B77: 1436814.6
A78: L'Anse Creuse Public Schools | B78: 2956822.9
A79: Roseville Community Schools | B79: 1348794.1
A80: Van Dyke Public Schools | B80: 725296.14
A81: Warren Consolidated Schools | B81: 4028592.4
A82: Warren Woods Public Schools | B82: 888841.17
A83: 10 | B83: 17228385
A84: Chippewa Valley Schools | B84: 4482505.2
A85: Fraser Public Schools | B85: 1436814.6
A86: L'Anse Creuse Public Schools | B86: 2956822.9
A87: Mt. Clemens Community School District | B87: 313738.71
A88: New Haven Community Schools | B88: 348542.39
A89: Utica Community Schools | B89: 7689961.5
A90: 11 | B90: 16896712
A91: Berkley School District | B91: 1453207.9
A92: Birmingham City School District | B92: 2205731.5
A93: Clarenceville School District | B93: 494587.18
A94: Farmington Public School District | B94: 2745002.6
A95: Ferndale Public Schools | B95: 824951.52
A96: Hazel Park City School District | B96: 892003.4
A97: Lamphere Public Schools | B97: 745428.38
A98: Madison Public Schools (Oakland) | B98: 459898.3
A99: Oak Park City School District | B99: 1318333.4
A100: Southfield Public School District | B100: 1820305.5
A101: Walled Lake Consolidated Schools | B101: 3937262.2
A102: 12 | B102: 18627731
A103: Avondale School District | B103: 982152.95
...
